BEGIN:VCALENDAR
PRODID:-//eluceo/ical//2.0/EN
VERSION:2.0
CALSCALE:GREGORIAN
BEGIN:VEVENT
UID:e4fbdb0084b24617ed9668fc9a5e4ad4
DTSTAMP:20260423T100415Z
SUMMARY:SanBike
DESCRIPTION:I dettagli seguiranno più avanti.\nSitio web: http://greenhope
 .ch/sanbike/
URL:https://rotaract-ticino.ch/es/agenda/show/120593
DTSTART;TZID=Europe/Zurich:20150725T000000
DTEND;TZID=Europe/Zurich:20150726T000000
LOCATION:San Bernardino
CATEGORIES:Rotaract
END:VEVENT
BEGIN:VTIMEZONE
TZID:Europe/Zurich
BEGIN:DAYLIGHT
DTSTART:20150725T000000
TZNAME:CEST
TZOFFSETTO:+0200
TZOFFSETFROM:+0200
END:DAYLIGHT
END:VTIMEZONE
END:VCALENDAR
