BEGIN:VCALENDAR
PRODID:-//eluceo/ical//2.0/EN
VERSION:2.0
CALSCALE:GREGORIAN
BEGIN:VEVENT
UID:b0cc9a12772bef0a1a6cebccc356b741
DTSTAMP:20260423T100201Z
SUMMARY:Musical Dirty Dancing
DESCRIPTION:Cari soci Rotaractiani\,\nCari amici\,\n\nad inizio luglio 2015
  abbiamo il piacere di organizzare una serata a Milano\, per la visione de
 l Musical Dirty Dancing.\n\nProgramma:\nData:   Sabato 4 luglio 2015 all
 e ore 20.45 (ritrovo ore 17.00)\n\n\n- Tardo pomeriggio ritrovo presso il 
 posteggio a Pambio (strada dala Curona 1\, 6915 Pambio-Noranco) trasferta 
 a Milano\n- Aperitivo prima del concerto\n- 20.45 Musical al Barclays Teat
 ro Nazionale in Piazza Piemonte 12 a Milano\n- Ev. a seguire cena\n- Rient
 ro\n\nCosto biglietti per la categoria seconda poltrona: 54 Euro.\n\nGli o
 rari più precisi seguiranno più avanti.\n\n\nQui di seguito il doodle pe
 r le iscrizioni:\nhttp://doodle.com/6wns7evtwc9ipp4t\n\n\nTermine d’iscr
 izione: mercoledì 15 maggio 2015.\nCon la speranza di incontrarvi numeros
 i\, vi porgiamo rotaractiani saluti!
URL:https://rotaract-ticino.ch/es/agenda/show/120590
DTSTART;TZID=Europe/Zurich:20150704T204500
DTEND;TZID=Europe/Zurich:20150704T204500
LOCATION:Milano (ritrovo a Pambio)
CATEGORIES:Rotaract
END:VEVENT
BEGIN:VTIMEZONE
TZID:Europe/Zurich
BEGIN:DAYLIGHT
DTSTART:20150704T204500
TZNAME:CEST
TZOFFSETTO:+0200
TZOFFSETFROM:+0200
END:DAYLIGHT
END:VTIMEZONE
END:VCALENDAR
