BEGIN:VCALENDAR
PRODID:-//eluceo/ical//2.0/EN
VERSION:2.0
CALSCALE:GREGORIAN
BEGIN:VEVENT
UID:ac8e70b0c0cbd842f4bf99eba3f7f75c
DTSTAMP:20260423T085809Z
SUMMARY:VISITA GUIDATA -  VISMARA & CO SA
DESCRIPTION:
URL:https://rotaract-ticino.ch/en/agenda/show/212159
DTSTART;TZID=Europe/Zurich:20260429T173000
DTEND;TZID=Europe/Zurich:20260429T213000
LOCATION:Vismara - Via alla stampa\, 21 - Lugano
CATEGORIES:Rotaract
END:VEVENT
BEGIN:VTIMEZONE
TZID:Europe/Zurich
BEGIN:DAYLIGHT
DTSTART:20260429T173000
TZNAME:CEST
TZOFFSETTO:+0200
TZOFFSETFROM:+0200
END:DAYLIGHT
END:VTIMEZONE
END:VCALENDAR
