BEGIN:VCALENDAR
PRODID:-//eluceo/ical//2.0/EN
VERSION:2.0
CALSCALE:GREGORIAN
BEGIN:VEVENT
UID:d834835c39ea34bc009fc151f3dd69dd
DTSTAMP:20260423T100334Z
SUMMARY:Il Rotaract al Rabadan
DESCRIPTION:Website: http://www.rac-luganoceresio.ch/club/activities/agenda
 .php
URL:https://rotaract-ticino.ch/en/agenda/show/209231
DTSTART;TZID=Europe/Zurich:20260212T180000
DTEND;TZID=Europe/Zurich:20260212T230000
LOCATION:Rabadan\, Bellinzona
CATEGORIES:Rotaract
END:VEVENT
BEGIN:VTIMEZONE
TZID:Europe/Zurich
BEGIN:STANDARD
DTSTART:20260212T180000
TZNAME:CET
TZOFFSETTO:+0100
TZOFFSETFROM:+0100
END:STANDARD
END:VTIMEZONE
END:VCALENDAR
