BEGIN:VCALENDAR
PRODID:-//eluceo/ical//2.0/EN
VERSION:2.0
CALSCALE:GREGORIAN
BEGIN:VEVENT
UID:ae267293122d38ea10bbbecadf497c72
DTSTAMP:20260421T112041Z
SUMMARY:Rokj - "Nessun bambino ai margini"
DESCRIPTION:Webseite: http://www.rac-luganoceresio.ch/club/activities/agend
 a.php
URL:https://rotaract-ticino.ch/de/agenda/show/211258
DTSTART;TZID=Europe/Zurich:20260506T180000
DTEND;TZID=Europe/Zurich:20260506T220000
LOCATION:Villa Ciani
CATEGORIES:Rotaract
END:VEVENT
BEGIN:VTIMEZONE
TZID:Europe/Zurich
BEGIN:DAYLIGHT
DTSTART:20260506T180000
TZNAME:CEST
TZOFFSETTO:+0200
TZOFFSETFROM:+0200
END:DAYLIGHT
END:VTIMEZONE
END:VCALENDAR
