BEGIN:VCALENDAR
PRODID:-//eluceo/ical//2.0/EN
VERSION:2.0
CALSCALE:GREGORIAN
BEGIN:VEVENT
UID:33a5b7228050bde48d49362fe27f861f
DTSTAMP:20260425T153918Z
SUMMARY:Alla scoperta delle Marche
DESCRIPTION:
URL:https://rotaract-ticino.ch/de/agenda/show/209976
DTSTART;TZID=Europe/Zurich:20260514T090000
DTEND;TZID=Europe/Zurich:20260517T120000
LOCATION:Cupra Marittima
CATEGORIES:Rotaract
END:VEVENT
BEGIN:VTIMEZONE
TZID:Europe/Zurich
BEGIN:DAYLIGHT
DTSTART:20260514T090000
TZNAME:CEST
TZOFFSETTO:+0200
TZOFFSETFROM:+0200
END:DAYLIGHT
END:VTIMEZONE
END:VCALENDAR
