BEGIN:VCALENDAR
PRODID:-//eluceo/ical//2.0/EN
VERSION:2.0
CALSCALE:GREGORIAN
BEGIN:VEVENT
UID:7ab8e4639aaecaa02d81be921fa5f5c5
DTSTAMP:20260423T112426Z
SUMMARY:Assemblea ordinaria
DESCRIPTION:
URL:https://rotaract-ticino.ch/de/agenda/show/166696
DTSTART;TZID=Europe/Zurich:20240123T193000
DTEND;TZID=Europe/Zurich:20240123T223000
LOCATION:Canvetto Luganese\, Lugano
CATEGORIES:Rotaract
END:VEVENT
BEGIN:VTIMEZONE
TZID:Europe/Zurich
BEGIN:STANDARD
DTSTART:20240123T193000
TZNAME:CET
TZOFFSETTO:+0100
TZOFFSETFROM:+0100
END:STANDARD
END:VTIMEZONE
END:VCALENDAR
