BEGIN:VCALENDAR
PRODID:-//eluceo/ical//2.0/EN
VERSION:2.0
CALSCALE:GREGORIAN
BEGIN:VEVENT
UID:987e47f26d925aae5b996c9e810a72a0
DTSTAMP:20260421T233459Z
SUMMARY:SERVICE - TAVOLINO MAGICO
DESCRIPTION:
URL:https://rotaract-ticino.ch/de/agenda/show/146491
DTSTART;TZID=Europe/Zurich:20221210T103000
DTEND;TZID=Europe/Zurich:20221210T103000
LOCATION:Bioggio
CATEGORIES:Rotaract
END:VEVENT
BEGIN:VTIMEZONE
TZID:Europe/Zurich
BEGIN:STANDARD
DTSTART:20221210T103000
TZNAME:CET
TZOFFSETTO:+0100
TZOFFSETFROM:+0100
END:STANDARD
END:VTIMEZONE
END:VCALENDAR
