BEGIN:VCALENDAR
PRODID:-//eluceo/ical//2.0/EN
VERSION:2.0
CALSCALE:GREGORIAN
BEGIN:VEVENT
UID:7a427b576aa3a3273845966ce01026f3
DTSTAMP:20260422T192137Z
SUMMARY:Scopriamo Lugano - Escape room all'aperto
DESCRIPTION:
URL:https://rotaract-ticino.ch/bs/agenda/show/166299
DTSTART;TZID=Europe/Zurich:20231025T191500
DTEND;TZID=Europe/Zurich:20231025T220000
LOCATION:Lugano
CATEGORIES:Rotaract
END:VEVENT
BEGIN:VTIMEZONE
TZID:Europe/Zurich
BEGIN:DAYLIGHT
DTSTART:20231025T191500
TZNAME:CEST
TZOFFSETTO:+0200
TZOFFSETFROM:+0200
END:DAYLIGHT
END:VTIMEZONE
END:VCALENDAR
