BEGIN:VCALENDAR
PRODID:-//eluceo/ical//2.0/EN
VERSION:2.0
CALSCALE:GREGORIAN
BEGIN:VEVENT
UID:5c685b5be09b3c28c833a1e5404b6f26
DTSTAMP:20260422T190411Z
SUMMARY:Manifestazione pubblica - I 175 anni della Costituzione Federale
DESCRIPTION:
URL:https://rotaract-ticino.ch/bs/agenda/show/166296
DTSTART;TZID=Europe/Zurich:20230930T150000
DTEND;TZID=Europe/Zurich:20230930T173000
LOCATION:Teatro Sociale\, Bellinzona
CATEGORIES:Rotaract
END:VEVENT
BEGIN:VTIMEZONE
TZID:Europe/Zurich
BEGIN:DAYLIGHT
DTSTART:20230930T150000
TZNAME:CEST
TZOFFSETTO:+0200
TZOFFSETFROM:+0200
END:DAYLIGHT
END:VTIMEZONE
END:VCALENDAR
