BEGIN:VCALENDAR
PRODID:-//eluceo/ical//2.0/EN
VERSION:2.0
CALSCALE:GREGORIAN
BEGIN:VEVENT
UID:61985fd72842e4645888c41c42092eb6
DTSTAMP:20260423T053803Z
SUMMARY:L'animazione e story telling con Milly
DESCRIPTION:
URL:https://rotaract-ticino.ch/bs/agenda/show/137906
DTSTART;TZID=Europe/Zurich:20220314T190000
DTEND;TZID=Europe/Zurich:20220314T230000
LOCATION:La serra\,  Pambio-Noranco
CATEGORIES:Rotaract
END:VEVENT
BEGIN:VTIMEZONE
TZID:Europe/Zurich
BEGIN:STANDARD
DTSTART:20220314T190000
TZNAME:CET
TZOFFSETTO:+0100
TZOFFSETFROM:+0100
END:STANDARD
END:VTIMEZONE
END:VCALENDAR
